BEGIN:VCALENDAR
VERSION:2.0
CALSCALE:GREGORIAN
PRODID:adamgibbons/ics
METHOD:PUBLISH
X-PUBLISHED-TTL:PT1H
BEGIN:VEVENT
UID:594@lapunta.org
SUMMARY:BICICLETTATA DI PROTESTA
DTSTAMP:20260424T140423Z
DTSTART:20220513T150000Z
DTEND:20220513T180000Z
DESCRIPTION:Venerdì 13 maggio h. 17.01\n\nBICICLETTATA DI PROTESTA\n\n"Prim
	a vera regola\, non mento mai: I SERVIZI QUI A FIRENZE SONO MERDA" dice\nS
	umma.\n\nPer non parlare dei servizi che collegano Firenze con Sesto Fiore
	ntino e il polo\nscientifico. Da anni noi student\, anche con i lavorator 
	del polo scientifico\nchiediamo un trasporto pubblico che sia efficace per
	 poter raggiungere e vivere\nl'università quotidianamente. Da anni denunci
	amo la cronica inaffidabilità del\n59 e la mancanza di una pista ciclabile
	\, che costringono tutt* noi ad utilizzare\nmezzi privati\, che sono più c
	ostosi ed inquinanti.\n\nDavanti a istituzioni che ci suggeriscono di comb
	attere il cambiamento climatico\na suon di piccole azioni quotidiane\, rip
	onendo l'intera responsabilità sul\nsingolo\, noi esigiamo cambiamenti str
	utturali. Alla città metropolitana di\nFirenze\, che ama descriversi come 
	sempre più "green"\, ma quando si parla di\nmobilità pensa solo a una nuov
	a inutile e impattante pista aeroportuale noi\nchiediamo un trasporto pubb
	lico EFFICACE\, AFFIDABILE\, ed ESTESO\, e la\nCOSTRUZIONE DELLA PISTA CIC
	LABILE.\n\nPer protestare per tutto ciò abbiamo organizzato una bicicletta
	ta con\nrallentamento del traffico sul percorso del 59 da Morgagni al bloc
	co aule\, con\npartenza alla fermata Santo Stefano in Pane\, per venerdì 1
	3 alle 17.01.\n\nArrivat* al blocco aule ci sarà una serie di interventi c
	on le realtà che\nparteciperanno all'iniziativa e troverete da bere e mang
	iare a prezzi popolari.\nNon mancate!\n\nCollettivo di Scienze\n[https://w
	ww.facebook.com/collettivo.discienze?__cft__[0]=AZX0Atyh14Rx8SYnpGgsIq4Ptg
	J29Z_mr1CluOookL-fRI_z31LBwY8O4nHOnPqOCSl4mSUOti31iTCFl_NLGpxa8Q9w6W1oua1P
	dnfwt69ikLb0VdDk1zztYDnG1YQwFgM7ldvQOv7ORXGXiIJsaoWD&__tn__=-]K-R]\n\nColl
	ettivo di Polo\n\nhttps://www.facebook.com/studenti.disinistra.1/posts/335
	9277714299927\n[https://www.facebook.com/studenti.disinistra.1/posts/33592
	77714299927]
URL:https://lapunta.org/event/biciclettata-di-protesta
LOCATION:partenza alla fermata Santo Stefano in Pane\, - via Santo Stefano 
	in Pane\,
STATUS:CONFIRMED
CATEGORIES:
X-ALT-DESC;FMTTYPE=text/html:<p>Venerdì 13 maggio h. 17.01</p><p>BICICLETTA
	TA DI PROTESTA</p><p>"Prima vera regola, non mento mai: I SERVIZI QUI A FI
	RENZE SONO MERDA" dice Summa.</p><p>Per non parlare dei servizi che colleg
	ano Firenze con Sesto Fiorentino e il polo scientifico. Da anni noi studen
	t, anche con i lavorator del polo scientifico chiediamo un trasporto pubbl
	ico che sia efficace per poter raggiungere e vivere l'università quotidian
	amente. Da anni denunciamo la cronica inaffidabilità del 59 e la mancanza 
	di una pista ciclabile, che costringono tutt* noi ad utilizzare mezzi priv
	ati, che sono più costosi ed inquinanti.</p><p>Davanti a istituzioni che c
	i suggeriscono di combattere il cambiamento climatico a suon di piccole az
	ioni quotidiane, riponendo l'intera responsabilità sul singolo, noi esigia
	mo cambiamenti strutturali. Alla città metropolitana di Firenze, che ama d
	escriversi come sempre più "green", ma quando si parla di mobilità pensa s
	olo a una nuova inutile e impattante pista aeroportuale noi chiediamo un t
	rasporto pubblico EFFICACE, AFFIDABILE, ed ESTESO, e la COSTRUZIONE DELLA 
	PISTA CICLABILE.</p><p>Per protestare per tutto ciò abbiamo organizzato un
	a biciclettata con rallentamento del traffico sul percorso del 59 da Morga
	gni al blocco aule, con partenza alla fermata Santo Stefano in Pane, per v
	enerdì 13 alle 17.01.</p><p>Arrivat* al blocco aule ci sarà una serie di i
	nterventi con le realtà che parteciperanno all'iniziativa e troverete da b
	ere e mangiare a prezzi popolari. Non mancate!</p><p><a target="_blank" hr
	ef="https://www.facebook.com/collettivo.discienze?__cft__[0]=AZX0Atyh14Rx8
	SYnpGgsIq4PtgJ29Z_mr1CluOookL-fRI_z31LBwY8O4nHOnPqOCSl4mSUOti31iTCFl_NLGpx
	a8Q9w6W1oua1Pdnfwt69ikLb0VdDk1zztYDnG1YQwFgM7ldvQOv7ORXGXiIJsaoWD&amp;__tn
	__=-]K-R">Collettivo di Scienze</a></p><p>Collettivo di Polo</p><p><a targ
	et="_blank" href="https://www.facebook.com/studenti.disinistra.1/posts/335
	9277714299927">https://www.facebook.com/studenti.disinistra.1/posts/335927
	7714299927</a></p>
END:VEVENT
END:VCALENDAR
